BEGIN:VCALENDAR
VERSION:2.0
PRODID:-//BACE Timebank - ECPv5.13.0//NONSGML v1.0//EN
CALSCALE:GREGORIAN
METHOD:PUBLISH
X-WR-CALNAME:BACE Timebank
X-ORIGINAL-URL:https://sfbace.org
X-WR-CALDESC:Events for BACE Timebank
REFRESH-INTERVAL;VALUE=DURATION:PT1H
X-Robots-Tag:noindex
X-PUBLISHED-TTL:PT1H
BEGIN:VTIMEZONE
TZID:America/Los_Angeles
BEGIN:DAYLIGHT
TZOFFSETFROM:-0800
TZOFFSETTO:-0700
TZNAME:PDT
DTSTART:20220313T100000
END:DAYLIGHT
BEGIN:STANDARD
TZOFFSETFROM:-0700
TZOFFSETTO:-0800
TZNAME:PST
DTSTART:20221106T090000
END:STANDARD
BEGIN:DAYLIGHT
TZOFFSETFROM:-0800
TZOFFSETTO:-0700
TZNAME:PDT
DTSTART:20230312T100000
END:DAYLIGHT
BEGIN:STANDARD
TZOFFSETFROM:-0700
TZOFFSETTO:-0800
TZNAME:PST
DTSTART:20231105T090000
END:STANDARD
BEGIN:DAYLIGHT
TZOFFSETFROM:-0800
TZOFFSETTO:-0700
TZNAME:PDT
DTSTART:20240310T100000
END:DAYLIGHT
BEGIN:STANDARD
TZOFFSETFROM:-0700
TZOFFSETTO:-0800
TZNAME:PST
DTSTART:20241103T090000
END:STANDARD
END:VTIMEZONE
BEGIN:VEVENT
DTSTART;TZID=America/Los_Angeles:20240203T090000
DTEND;TZID=America/Los_Angeles:20240203T110000
DTSTAMP:20260419T181404
CREATED:20240131T221926Z
LAST-MODIFIED:20240131T235742Z
UID:110786-1706950800-1706958000@sfbace.org
SUMMARY:Grand Ave Cleanup (& Earn Time)
DESCRIPTION:Grand Ave is a business/residential district in Oakland\, CA. Join us this Saturday to remove litter\, recyclables\, weeds\, and leaves.  We start at 3535 Grand Ave and move toward the freeway. You may arrive later\, as your schedule allows. We’re a small team (1-3 people)\, so you’ll need to park and stroll about.   \n\n\n\nREMEMBER:  Feed the meter with coins or debit/credit card (We reimburse in cash AT the event only.) \n\n\n\nBRING: Gloves (and tools if you have them). Bags and removal provided. (Helpful tools: wide broom\, rake\, 6-inch pruning sheers\, V-tool for removing weeds\, mini-broom/pan\,  spray bottle with cleaning agent & cloth/paper towels)\, graffiti removal agent).  \n\n\n\nEARN:  Up to 2 BACE Timebank Credit Hours (CH) plus 1 CH for travel.
URL:https://sfbace.org/event/grand-ave-cleanup/
LOCATION:Meet at\, 3535 Grand Ave\, Oakland\, California\, 94610\, United States
CATEGORIES:Face-to-Face Event
END:VEVENT
BEGIN:VEVENT
DTSTART;TZID=America/Los_Angeles:20240131T190000
DTEND;TZID=America/Los_Angeles:20240131T193000
DTSTAMP:20260419T181404
CREATED:20240128T175034Z
LAST-MODIFIED:20240131T184523Z
UID:110759-1706727600-1706729400@sfbace.org
SUMMARY:Last Wed of the Month:  Skillshare
DESCRIPTION:Online event where you introduce yourself\, offer a skill\, and request a skill. \n\n\n\nClick here for Zoom link.
URL:https://sfbace.org/event/skillshare/
CATEGORIES:Online Event
END:VEVENT
BEGIN:VEVENT
DTSTART;TZID=America/Los_Angeles:20231128T000000
DTEND;TZID=America/Los_Angeles:20231128T235900
DTSTAMP:20260419T181404
CREATED:20231128T053901Z
LAST-MODIFIED:20231128T053904Z
UID:110689-1701129600-1701215940@sfbace.org
SUMMARY:Giving Tuesday 2023
DESCRIPTION:Global giving day.  BACE Timebank is a not-for-profit with an all-volunteer staff.  BACE Timebank brings people and organizations together to help them meet their needs without using money.  The Timebank has more than 75 categories of services and goods.  The Timebank is free to join and use. Help us keep it that way by donating today!
URL:https://sfbace.org/event/giving-tuesday-2023/
CATEGORIES:Online Event
END:VEVENT
BEGIN:VEVENT
DTSTART;TZID=America/Los_Angeles:20231031T000000
DTEND;TZID=America/Los_Angeles:20231031T235959
DTSTAMP:20260419T181404
CREATED:20231015T203605Z
LAST-MODIFIED:20231015T203608Z
UID:110650-1698710400-1698796799@sfbace.org
SUMMARY:BACE Timebank Anniversary Fundraiser
DESCRIPTION:BACE launched its Timebank in October 2009\, about a year following the start of the financial crisis of 2008. We use time currency to pay for 96% of all operational costs. The dollar you give today goes to pay for commercial technical services that only accept dollars as payment. In keeping with tradition\, we are asking for $1 donations.  If you’re inspired by our 14 years of operating an all-volunteer resource for the greater Bay Area in California\, honor us with your $14 donation.
URL:https://sfbace.org/event/bace-timebank-anniversary-fundraiser/
END:VEVENT
BEGIN:VEVENT
DTSTART;TZID=America/Los_Angeles:20231028T090000
DTEND;TZID=America/Los_Angeles:20231028T110000
DTSTAMP:20260419T181404
CREATED:20231015T201334Z
LAST-MODIFIED:20231015T201713Z
UID:110645-1698483600-1698490800@sfbace.org
SUMMARY:Neighborhood Cleanup & Lunch
DESCRIPTION:Join us when we clean and spruce up a Concord neighborhood. Stay for lunch and learn more about timebanking. Neighborhood timebank members are especially encouraged to attend.
URL:https://sfbace.org/event/neighborhood-cleanup-lunch/
END:VEVENT
BEGIN:VEVENT
DTSTART;TZID=America/Los_Angeles:20231021T140000
DTEND;TZID=America/Los_Angeles:20231021T160000
DTSTAMP:20260419T181404
CREATED:20230803T235239Z
LAST-MODIFIED:20231021T201609Z
UID:110525-1697896800-1697904000@sfbace.org
SUMMARY:Timebank Potluck
DESCRIPTION:Join us at the Orinda Community Park\, the grass area between the library and tennis courts. Bring one of the following to share with others: appetizer\, salad or cookies/cakes. Beverages will be provided. Meet up with long-time and new members and learn more about timebanking.  Potluck is open to the general public.  (Venue:  Orinda Community Park\, 28 Orinda Way\, Orinda\, CA 94563. Plenty of parking. Accessible by BART\, about a 9 min walk from Orinda BART. Make a Timebank requests/offers if you need or can offer a ride by car.)  Event is RAIN or SHINE—if it starts to sprinkle\, we’ll move to the library deck (upstairs) and/or gallery foyer for continued conversation.
URL:https://sfbace.org/event/timebank-potluck/
LOCATION:Orinda Community Center Park
CATEGORIES:Face-to-Face Event
END:VEVENT
BEGIN:VEVENT
DTSTART;TZID=America/Los_Angeles:20231016T210000
DTEND;TZID=America/Los_Angeles:20231016T230000
DTSTAMP:20260419T181404
CREATED:20231017T011128Z
LAST-MODIFIED:20231017T011134Z
UID:110653-1697490000-1697497200@sfbace.org
SUMMARY:Broken Record Radio Show
DESCRIPTION:Broken Record and team discuss relevant and interesting topics each Monday at 9p.
URL:https://sfbace.org/event/broken-record-radio-show/
END:VEVENT
BEGIN:VEVENT
DTSTART;TZID=America/Los_Angeles:20221129T000000
DTEND;TZID=America/Los_Angeles:20221129T235959
DTSTAMP:20260419T181404
CREATED:20221124T191200Z
LAST-MODIFIED:20221124T200522Z
UID:110322-1669680000-1669766399@sfbace.org
SUMMARY:Giving Tuesday 2022
DESCRIPTION:Keep this free source available!
URL:https://sfbace.org/event/giving-tuesday-2022/
END:VEVENT
BEGIN:VEVENT
DTSTART;TZID=America/Los_Angeles:20221128T090000
DTEND;TZID=America/Los_Angeles:20221128T090000
DTSTAMP:20260419T181404
CREATED:20221124T181504Z
LAST-MODIFIED:20221128T173809Z
UID:110305-1669626000-1669626000@sfbace.org
SUMMARY:Webinar:  Fundraising for Timebanks
DESCRIPTION:Join this free 20-minutes webinar and learn the 5 W’s of fundraising and the difference between a campaign and strategy.  Receive practical guidance along with plenty of time for Q&A.  This webinar is part of BACE’s Learn to Earn series.
URL:https://sfbace.org/event/fundraising-for-timebanks/
END:VEVENT
BEGIN:VEVENT
DTSTART;TZID=America/Los_Angeles:20220831T120000
DTEND;TZID=America/Los_Angeles:20220831T123000
DTSTAMP:20260419T181404
CREATED:20220810T210300Z
LAST-MODIFIED:20220830T182940Z
UID:109785-1661947200-1661949000@sfbace.org
SUMMARY:Rejuvenating Your Timebank
DESCRIPTION:Timebank membership and exchanges can ebb and flow\, but when you notice a decreasing trend in the number of members and/or exchanges\, it is time to start asking questions. Speaker\, Monica Johnston\, will discuss salient warning signs that your timebank is having problems and provide a process for rejuvenating your timebank. During the pandemic\, many timebank coordinators have expressed that it has been especially challenging to engage members and attract new members. This webinar with work with you to generate 40+ low/no contact ways to do exchanges at your timebank. The webinar ends with a longer than typical Q&A so that participants can get feedback on their specific timebank challenge.
URL:https://sfbace.org/event/timebanking-for-organizations-4/
LOCATION:Online
CATEGORIES:Webinar
END:VEVENT
BEGIN:VEVENT
DTSTART;TZID=America/Los_Angeles:20220824T120000
DTEND;TZID=America/Los_Angeles:20220824T123000
DTSTAMP:20260419T181404
CREATED:20220810T210057Z
LAST-MODIFIED:20220817T145455Z
UID:109783-1661342400-1661344200@sfbace.org
SUMMARY:Timebanking for Organizations
DESCRIPTION:There are two ways that nonprofit organizations can integrate timebanking into their organization.  This webinar will demonstrate why organizations may want to integrate timebanking into client programs\, and secondly\, how they can use timebanking to attract and retain a more diverse group of volunteers to their organization. This webinar is led by Monica Johnston and inspired by the work of Alexis Contreras.  Monica is a former co-director and current advisor to the BACE timebank. As a Time Philanthropist\, she gives 30-40 hours per month to people and organizations around the world and has been timebanking since 2014. Alexis is the Edgar Cahn Memorial Intern and has experience working with nonprofit organizations.
URL:https://sfbace.org/event/timebanking-for-organizations-3/
LOCATION:Online
CATEGORIES:Webinar
END:VEVENT
BEGIN:VEVENT
DTSTART;TZID=America/Los_Angeles:20220817T120000
DTEND;TZID=America/Los_Angeles:20220817T123000
DTSTAMP:20260419T181404
CREATED:20220803T141803Z
LAST-MODIFIED:20220817T145420Z
UID:109757-1660737600-1660739400@sfbace.org
SUMMARY:Timebanking for Organizations
DESCRIPTION:There are two ways that nonprofit organizations can integrate timebanking into their organization.  This webinar will demonstrate why organizations may want to integrate timebanking into client programs\, and secondly\, how they can use timebanking to attract and retain a more diverse group of volunteers to their organization. This webinar is led by Monica Johnston and inspired by the work of Alexis Contreras.  Monica is a former co-director and current advisor to the BACE timebank. As a Time Philanthropist\, she gives 30-40 hours per month to people and organizations around the world and has been timebanking since 2014. Alexis is the Edgar Cahn Memorial Intern and has experience working with nonprofit organizations. \nPresented every Wednesday\, Noon to 12:30pm Pacific\, in August
URL:https://sfbace.org/event/timebanking-for-organizations-2/
CATEGORIES:Webinar
END:VEVENT
BEGIN:VEVENT
DTSTART;TZID=America/Los_Angeles:20220810T120000
DTEND;TZID=America/Los_Angeles:20220810T123000
DTSTAMP:20260419T181404
CREATED:20220810T230826Z
LAST-MODIFIED:20220810T230829Z
UID:109801-1660132800-1660134600@sfbace.org
SUMMARY:Webinar:  Timebanking for Organizations
DESCRIPTION:There are two ways that nonprofit organizations can integrate timebanking into their organization.  This webinar will demonstrate why organizations may want to integrate timebanking into client programs\, and secondly\, how they can use timebanking to attract and retain a more diverse group of volunteers to their organization. This webinar is led by Monica Johnston and inspired by the work of Alexis Contreras.  Monica is a former co-director and current advisor to the BACE timebank. As a Time Philanthropist\, she gives 30-40 hours per month to people and organizations around the world and has been timebanking since 2014. Alexis is the Edgar Cahn Memorial Intern and has experience working with nonprofit organizations.
URL:https://sfbace.org/event/webinar-timebanking-for-organizations/
END:VEVENT
BEGIN:VEVENT
DTSTART;TZID=America/Los_Angeles:20220808T190000
DTEND;TZID=America/Los_Angeles:20220808T193000
DTSTAMP:20260419T181404
CREATED:20220807T140352Z
LAST-MODIFIED:20220810T213542Z
UID:109764-1659985200-1659987000@sfbace.org
SUMMARY:How to be Eco-friendly on a Budget--CANCELED
DESCRIPTION:Unfortunately\, Ms. Contreras has canceled her appearance and has not set a day/time for rescheduling. \nManaging your carbon footprint and living sustainably are habits that often ring through our heads\, yet feel out of reach. How are we meant to live sustainably if petroleum-free products are four times the cost of a regular brand\, and we need our cars to commute to work? While these are valid concerns\, living sustainably and living on a budget are not mutually exclusive. BACE Timebank intern\, Alexis Contreras\, has developed a list of hacks and habits that are meant to guide the consumer to sustainable living. Some of these habits decrease consumption so low\, that they will save you money!  This presentation stems from her own research on the topic and from insights gained from what she has learned through the University of Michigan’s Ecology Center.  \nRSVP by Sunday\, August 7:  https://forms.gle/N9KJcT7EnNg6XBFJ6 \nPresented by:  Alexis Contreras \n  \n 
URL:https://sfbace.org/event/how-to-be-eco-friendly-on-a-budget/
CATEGORIES:Online Event
ORGANIZER;CN="BACE%20Advisor":MAILTO:support@bace.org
END:VEVENT
BEGIN:VEVENT
DTSTART;TZID=America/Los_Angeles:20220727T120000
DTEND;TZID=America/Los_Angeles:20220727T123000
DTSTAMP:20260419T181404
CREATED:20220725T014218Z
LAST-MODIFIED:20220727T140616Z
UID:109614-1658923200-1658925000@sfbace.org
SUMMARY:Timebanking for Organizations--CANCELED
DESCRIPTION:There are two ways that nonprofit organizations can integrate timebanking into their organization.  This webinar will demonstrate why organizations may want to integrate timebanking into client programs\, and secondly\, how they can use timebanking to attract and retain a more diverse group of volunteers to their organization. This webinar is led by Monica Johnston and Alexis Contreras.  Monica is a former co-director and current advisor to the BACE timebank. As a Time Philanthropist\, she gives 30-40 hours per month to people and organizations around the world and has been timebanking since 2014. Alexis is the Edgar Cahn Memorial Intern and has experience working with nonprofit organizations. \nSpeakers:  Monica Johnston\, Alexis Contreras \nZoom Link \nMeeting ID: 872 3812 9785\nPasscode: g296nN
URL:https://sfbace.org/event/timebanking-for-organizations/
LOCATION:Online
CATEGORIES:Online Event
ORGANIZER;CN="BACE%20Advisor":MAILTO:support@bace.org
END:VEVENT
BEGIN:VEVENT
DTSTART;TZID=America/Los_Angeles:20220725T190000
DTEND;TZID=America/Los_Angeles:20220725T193000
DTSTAMP:20260419T181404
CREATED:20220725T013659Z
LAST-MODIFIED:20220725T015425Z
UID:109610-1658775600-1658777400@sfbace.org
SUMMARY:Training on Engaging Communities
DESCRIPTION:Engaging diverse communities takes skilled leaders. In this webinar\, Alexis Contreras will share what she has learned about community engagement and about the EACH principles of leadership for successful community engagement. She has experience engaging communities through her work on climate change projects with the Peace and Justice Center and the Sunrise Movement. Alexis is the Edgar Cahn Memorial Intern at the BACE Timebank and is currently helping the Timebank engage the Latinx community in the North Bay through collaboration with other timebanks and organizational leaders. \nSpeaker:  Alexis Contreras \nZoom Link. \nMeeting ID: 975 1640 4745 \nPasscode: MkHEf3
URL:https://sfbace.org/event/training-on-engaging-communities/
LOCATION:Online
CATEGORIES:Online Event
ORGANIZER;CN="BACE%20Advisor":MAILTO:support@bace.org
END:VEVENT
BEGIN:VEVENT
DTSTART;TZID=America/Los_Angeles:20220615T193000
DTEND;TZID=America/Los_Angeles:20220615T200000
DTSTAMP:20260419T181404
CREATED:20220213T191859Z
LAST-MODIFIED:20220421T055641Z
UID:108279-1655321400-1655323200@sfbace.org
SUMMARY:Staff Business Meeting
DESCRIPTION:The conference link is located at BACE’s online calendar. \nGeneral members may listen in. Contact support@bace.org for a link.
URL:https://sfbace.org/event/staff-business-meeting-5/
LOCATION:Online
CATEGORIES:Meeting
ORGANIZER;CN="BACE%20Advisor":MAILTO:support@bace.org
END:VEVENT
BEGIN:VEVENT
DTSTART;TZID=America/Los_Angeles:20220518T193000
DTEND;TZID=America/Los_Angeles:20220518T200000
DTSTAMP:20260419T181404
CREATED:20220213T191803Z
LAST-MODIFIED:20220421T060241Z
UID:108277-1652902200-1652904000@sfbace.org
SUMMARY:Staff Business Meeting
DESCRIPTION:The conference link is located at BACE’s online calendar. \nGeneral members may listen in. Contact support@bace.org for a link.
URL:https://sfbace.org/event/staff-business-meeting-4/
LOCATION:Online
CATEGORIES:Meeting
ORGANIZER;CN="BACE%20Advisor":MAILTO:support@bace.org
END:VEVENT
END:VCALENDAR